BEGIN:VCALENDAR
VERSION:2.0
PRODID:-//hermods.se//iCal Event Maker
CALSCALE:GREGORIAN
BEGIN:VTIMEZONE
TZID:UTC
TZURL:http://tzurl.org/zoneinfo-outlook/UTC
X-LIC-LOCATION:UTC
BEGIN:DAYLIGHT
TZOFFSETFROM:+0100
TZOFFSETTO:+0200
TZNAME:CEST
DTSTART:19700329T020000
RRULE:FREQ=YEARLY;BYMONTH=3;BYDAY=-1SU
END:DAYLIGHT
BEGIN:STANDARD
TZOFFSETFROM:+0200
TZOFFSETTO:+0100
TZNAME:CET
DTSTART:19701025T030000
RRULE:FREQ=YEARLY;BYMONTH=10;BYDAY=-1SU
END:STANDARD
END:VTIMEZONE
BEGIN:VEVENT
DTSTAMP:20260526T141722Z
UID:20260526T141722Z-b61e54845639795052eced1bed72b8ca0eb541bf06b0bf9712e3b2564f6f640b574c7643e92fd21398a1e93a057af87075fa075e4d4b579377aa8ff120baaa69@hermods.se
DTSTART;TZID=UTC:20260526T140000
DTEND;TZID=UTC:20260526T150000
SUMMARY:Digitalt öppet hus – Distansgymnasium
URL:https://hermods.se/event/digitalt-oppet-hus-distansgymnasium-2/
DESCRIPTION: Länk: https://teams.microsoft.com/dl/launcher/launcher.html?url=%2F_%23%2Fl%2Fmeetup-join%2F19%3Ameeting_ZGE0NzRiMmUtMTU4NS00NWJmLTkzMzUtNzRlYjc1YzBmZTNk%40thread.v2%2F0%3Fcontext%3D%257b%2522Tid%2522%253a%2522575945ce-2ee0-4503-ba90-6fb4a03b8c30%2522%252c%2522Oid%2522%253a%252222738fd2-e014-46a7-9dca-647d8da962c8%2522%257d%26anon%3Dtrue&type=meetup-join&deeplinkId=ecb96d3c-bd6e-4067-a73f-d8aaabf1d5ea&directDl=true&msLaunch=true&enableMobilePage=true&suppressPrompt=true
X-ALT-DESC;FMTTYPE=text/html: <p>Länk: <a href="https://teams.microsoft.com/dl/launcher/launcher.html?url=%2F_%23%2Fl%2Fmeetup-join%2F19%3Ameeting_ZGE0NzRiMmUtMTU4NS00NWJmLTkzMzUtNzRlYjc1YzBmZTNk%40thread.v2%2F0%3Fcontext%3D%257b%2522Tid%2522%253a%2522575945ce-2ee0-4503-ba90-6fb4a03b8c30%2522%252c%2522Oid%2522%253a%252222738fd2-e014-46a7-9dca-647d8da962c8%2522%257d%26anon%3Dtrue&type=meetup-join&deeplinkId=ecb96d3c-bd6e-4067-a73f-d8aaabf1d5ea&directDl=true&msLaunch=true&enableMobilePage=true&suppressPrompt=true">https://teams.microsoft.com/dl/launcher/launcher.html?url=%2F_%23%2Fl%2Fmeetup-join%2F19%3Ameeting_ZGE0NzRiMmUtMTU4NS00NWJmLTkzMzUtNzRlYjc1YzBmZTNk%40thread.v2%2F0%3Fcontext%3D%257b%2522Tid%2522%253a%2522575945ce-2ee0-4503-ba90-6fb4a03b8c30%2522%252c%2522Oid%2522%253a%252222738fd2-e014-46a7-9dca-647d8da962c8%2522%257d%26anon%3Dtrue&type=meetup-join&deeplinkId=ecb96d3c-bd6e-4067-a73f-d8aaabf1d5ea&directDl=true&msLaunch=true&enableMobilePage=true&suppressPrompt=true</a></p>
LOCATION:Distans
END:VEVENT
END:VCALENDAR
